BEGIN:VCALENDAR
VERSION:2.0
PRODID:-//ASOCIAȚIA GENERALĂ A INGINERILOR DIN ROMÂNIA - ECPv6.15.12//NONSGML v1.0//EN
CALSCALE:GREGORIAN
METHOD:PUBLISH
X-ORIGINAL-URL:https://agir-constanta.ro
X-WR-CALDESC:Events for ASOCIAȚIA GENERALĂ A INGINERILOR DIN ROMÂNIA
REFRESH-INTERVAL;VALUE=DURATION:PT1H
X-Robots-Tag:noindex
X-PUBLISHED-TTL:PT1H
BEGIN:VTIMEZONE
TZID:Europe/Helsinki
BEGIN:DAYLIGHT
TZOFFSETFROM:+0200
TZOFFSETTO:+0300
TZNAME:EEST
DTSTART:20210328T010000
END:DAYLIGHT
BEGIN:STANDARD
TZOFFSETFROM:+0300
TZOFFSETTO:+0200
TZNAME:EET
DTSTART:20211031T010000
END:STANDARD
BEGIN:DAYLIGHT
TZOFFSETFROM:+0200
TZOFFSETTO:+0300
TZNAME:EEST
DTSTART:20220327T010000
END:DAYLIGHT
BEGIN:STANDARD
TZOFFSETFROM:+0300
TZOFFSETTO:+0200
TZNAME:EET
DTSTART:20221030T010000
END:STANDARD
BEGIN:DAYLIGHT
TZOFFSETFROM:+0200
TZOFFSETTO:+0300
TZNAME:EEST
DTSTART:20230326T010000
END:DAYLIGHT
BEGIN:STANDARD
TZOFFSETFROM:+0300
TZOFFSETTO:+0200
TZNAME:EET
DTSTART:20231029T010000
END:STANDARD
END:VTIMEZONE
BEGIN:VEVENT
DTSTART;TZID=Europe/Helsinki:20221210T090000
DTEND;TZID=Europe/Helsinki:20221210T110000
DTSTAMP:20260424T140708
CREATED:20230412T140028Z
LAST-MODIFIED:20230412T140201Z
UID:4980-1670662800-1670670000@agir-constanta.ro
SUMMARY:Membrii AGIR Constanța\, activi la orice vârstă!
DESCRIPTION:
URL:https://agir-constanta.ro/event/membrii-agir-constanta-activi-la-orice-varsta/
LOCATION:Select a State:
CATEGORIES:ING-Senior
END:VEVENT
END:VCALENDAR