BEGIN:VCALENDAR
VERSION:2.0
PRODID:-//ASOCIAȚIA GENERALĂ A INGINERILOR DIN ROMÂNIA - ECPv6.15.12//NONSGML v1.0//EN
CALSCALE:GREGORIAN
METHOD:PUBLISH
X-ORIGINAL-URL:https://agir-constanta.ro
X-WR-CALDESC:Events for ASOCIAȚIA GENERALĂ A INGINERILOR DIN ROMÂNIA
REFRESH-INTERVAL;VALUE=DURATION:PT1H
X-Robots-Tag:noindex
X-PUBLISHED-TTL:PT1H
BEGIN:VTIMEZONE
TZID:Europe/Helsinki
BEGIN:DAYLIGHT
TZOFFSETFROM:+0200
TZOFFSETTO:+0300
TZNAME:EEST
DTSTART:20220327T010000
END:DAYLIGHT
BEGIN:STANDARD
TZOFFSETFROM:+0300
TZOFFSETTO:+0200
TZNAME:EET
DTSTART:20221030T010000
END:STANDARD
BEGIN:DAYLIGHT
TZOFFSETFROM:+0200
TZOFFSETTO:+0300
TZNAME:EEST
DTSTART:20230326T010000
END:DAYLIGHT
BEGIN:STANDARD
TZOFFSETFROM:+0300
TZOFFSETTO:+0200
TZNAME:EET
DTSTART:20231029T010000
END:STANDARD
BEGIN:DAYLIGHT
TZOFFSETFROM:+0200
TZOFFSETTO:+0300
TZNAME:EEST
DTSTART:20240331T010000
END:DAYLIGHT
BEGIN:STANDARD
TZOFFSETFROM:+0300
TZOFFSETTO:+0200
TZNAME:EET
DTSTART:20241027T010000
END:STANDARD
END:VTIMEZONE
BEGIN:VEVENT
DTSTART;TZID=Europe/Helsinki:20230406T140000
DTEND;TZID=Europe/Helsinki:20230406T160000
DTSTAMP:20260424T085040
CREATED:20230412T134215Z
LAST-MODIFIED:20230412T134215Z
UID:4969-1680789600-1680796800@agir-constanta.ro
SUMMARY:Mică istorie energetică a Dobrogei
DESCRIPTION:AGIR Constanța prezintă următorul eveniment în seria Despre Știință și Cultură cu Dezinvoltură. Joi\, 6 Aprilie 2023\, ora 14:00\, sala ACN\, etaj 2\, corpul nou al sediului Universității “Ovidius” din Constanța\, bd. Mamaia 124. Evenimentul va avea formatul de prelegere scurtă\, urmată de dialog cu participanții. Invitat: inginer Teodor Stoenescu. Tema: Mică istorie a energeticii în Dobrogea. Inedit si interesant\, de folos pentru înțelegerea contextului energetic regional. \nEvenimentul este organizat cu sprijinul \n\nComitetului Român de Istoria și Filosofia Științei și Tehnicii – filiala Constanța.
URL:https://agir-constanta.ro/event/mica-istorie-energetica-a-dobrogei/
LOCATION:Universitatea “Ovidius” Constanța\, Bd. Mamaia 124\, Sala P18\, Constanța\, Bd. Mamaia 124\, Constanța\, Constanța\, 900527\, Romania
CATEGORIES:Despre Știință și Cultură
ATTACH;FMTTYPE=image/png:https://agir-constanta.ro/wp-content/uploads/2023/03/Poster-6-aprilie-2023-e1678277346653.png
END:VEVENT
END:VCALENDAR