BEGIN:VCALENDAR
VERSION:2.0
PRODID:-//ASOCIAȚIA GENERALĂ A INGINERILOR DIN ROMÂNIA - ECPv6.15.12//NONSGML v1.0//EN
CALSCALE:GREGORIAN
METHOD:PUBLISH
X-ORIGINAL-URL:https://agir-constanta.ro
X-WR-CALDESC:Events for ASOCIAȚIA GENERALĂ A INGINERILOR DIN ROMÂNIA
REFRESH-INTERVAL;VALUE=DURATION:PT1H
X-Robots-Tag:noindex
X-PUBLISHED-TTL:PT1H
BEGIN:VTIMEZONE
TZID:Europe/Helsinki
BEGIN:DAYLIGHT
TZOFFSETFROM:+0200
TZOFFSETTO:+0300
TZNAME:EEST
DTSTART:20220327T010000
END:DAYLIGHT
BEGIN:STANDARD
TZOFFSETFROM:+0300
TZOFFSETTO:+0200
TZNAME:EET
DTSTART:20221030T010000
END:STANDARD
BEGIN:DAYLIGHT
TZOFFSETFROM:+0200
TZOFFSETTO:+0300
TZNAME:EEST
DTSTART:20230326T010000
END:DAYLIGHT
BEGIN:STANDARD
TZOFFSETFROM:+0300
TZOFFSETTO:+0200
TZNAME:EET
DTSTART:20231029T010000
END:STANDARD
BEGIN:DAYLIGHT
TZOFFSETFROM:+0200
TZOFFSETTO:+0300
TZNAME:EEST
DTSTART:20240331T010000
END:DAYLIGHT
BEGIN:STANDARD
TZOFFSETFROM:+0300
TZOFFSETTO:+0200
TZNAME:EET
DTSTART:20241027T010000
END:STANDARD
END:VTIMEZONE
BEGIN:VEVENT
DTSTART;TZID=Europe/Helsinki:20231026T190000
DTEND;TZID=Europe/Helsinki:20231027T170000
DTSTAMP:20260424T002325
CREATED:20230915T082257Z
LAST-MODIFIED:20231018T162322Z
UID:5205-1698346800-1698426000@agir-constanta.ro
SUMMARY:Forumul AGIR - REGIUNEA SUD EST\, organizat la Buzău
DESCRIPTION:Vă invităm să participați la Forumul AGIR – REGIUNEA SUD EST\, organizat la Buzău\, de sucursala AGIR locală. \nEvenimentul este detaliat pe https://www.forumnationalagir2023.org/ \nÎn program: \nProgramul Forumului Național AGIR 2023: \nZiua 1 – 26 Octombrie 2023 \nLocație: Buzău \n\nOra 11:00 – Concurs organizat de BRIDGE CLUB AGIR Buzău și Federația Română de Specialitate\n\nFestivitate de premiere – Trofeul FORUM AGIR 2023 \nLocație: Sala de conferințe a firmei SC Bencomp SA Buzău \nResponsabil: ing. Stelian CONDRUZ\, membrul sucursalei AGIR Buzau \n\nOra 13:00 – Dialoguri literare – întâlnire între membrii cercului Literar ING și creatori din regiunea de dezvoltare de S-E\nOra 14:00 – Lansarea Cartii „Dialogurile fascinantei geneze”\, coordonator Vasile Anton Moraru\, autori: Ionel Stănuță. Sorin Burlacu\, Cristian Ionescu\nOra 14:30 – Moment de poezie și muzică Nicu Zotta\n\n\nLocație: Sala Centrului IAZUL MORILOR \nPartener: Centrul Cultural și Educațional Alexandru MARGHILOMAN\, Iulia VASILESCU\, responsabil de programe \nResponsabili: prof.univ.dr.ing.Nicolae VASILE\, lect.univ.dr.ing.Ștefan PETRICEANU\, ing. Laurențiu BELIZAN \n\nOra 18:00 – Spectacol de teatru susținut de Cercul Impact ART al AGIR\n\nPiesa: “Doctori de femei”\, comedie de Georges Feydeau \nLocație: Teatrul George CIPRIAN \nExpoziție AMPA (Asociația Meșterilor Populari și Artiștilor) în foaierul teatrului \nPartener: Teatrul George Ciprian\, Gina CHIVULESCU\, managerul teatrului \nPartener: Asociația Meșterilor Populari și Artiștilor – AMPA\, președinte ing. Nicoleta Ungureanu \nResponsabili: lect.univ.dr.ing. Ștefan PETRICEANU\, ing. Daniel NEGUȚ \n  \nZiua 2 – 27 Octombrie 2023 \nLocație: Sala Nicu CONSTANTINESCU a Primăriei Municipiului Buzău \n\nOra 9:00 – Mihai MIHĂIȚĂ\, Președinte AGIR\, Președinte de onoare ASTR\n\nDeschiderea lucrărilor \nOra 9:30 – Luminița MIHAILOV\, Director general al Agenției pentru Dezvoltare Regională Sud-Est \n\nOra 9:45 – ing.Constantin TOMA\, Primarul Municipiului Buzău\, membru fondator al Sucursalei AGIR Buzău\n\nBuzău – Oraș Deschis: centrul național al economiei circulare\, dezvoltarea infrastructurii\, utilizarea apelor uzate în agricultură \n\nOra 10:15 – dr. ing. Costel VINATORU\, membrul Sucursalei AGIR Buzău\n\nBanca de Resurse Genetice Vegetale de la Buzău – oportunități pentru explorarea\, inventarierea\, colectarea\, cercetarea-dezvoltarea și conservarea resurselor fitogenetice \n\nOra 10:30 – prof.dr. ing. Lucica STANCULEANU\, vicepreședinte AGIR Buzău\n\nDrumul de la Învățământul profesional la Consorțiul pentru învățământ DUAL și TEHNIC SUPERIOR la Buzău \n\nOra 10:45 – Pauză\, Coffee breake si lansare de carte\, “KAIZEN ÎN ADMINISTRAȚIA PUBLICĂ\, O REFORMĂ NECESARĂ ÎN ROMÂNIA”\, coordonatori: ing.Constantin Toma\, Julien Bratu\, autori: Simona Săvulescu\, Andrei Răduțu\, Maria Mădălina Roșca\, sub egida Kaizen Institute\, editura Litera\nOra 11:15 – Prof.univ.dr. ing. Anca Nicolau\, președintele Sucursalei AGIR Galați\n\nInfrastructura de cercetare a Universității Dunărea de Jos din Galați\, resursă pentru dezvoltare durabilă: BioAliment-TehnIA – Centrul Integrat de Cercetare\, Expertiză si Transfer Tehnologic în Industria Alimentară\nMoRAS – Centrul Român pentru Modelarea Sistemelor Recirculante de Acvacultură \n\nOra 11.30 – Conf. dr. ing. Nicuşor Baroiu\, vicepreşedintele Sucursalei AGIR Galați\n\nITCM – Centrul de cercetare Inginerie Tehnologică în Construcţia de Maşini\nCE-PP – Centrul de Excelenţă în Prelucrarea Polimerilor\, SUDAV – Centrul de Cercetări Avansate în Domeniul Sudării \n\nOra 11.40 – Prof. univ. dr. chim. habil. Cătălina Iticescu\, directoarea proiectului REXDAN\n\nCentrul de Cercetare REXDAN \n\nOra 11:50 – Prof. univ.dr. ing. Valentina Pomazan\, președintele Sucursalei AGIR Constanța\n\nConexiunea și Creativitatea\, resurse din spatele resurselor \n\nOra 12.10 – Prof.  univ. dr. Gabriel POPESCU\,  Director al Centrului de Studii și Cercetări de Biodiversitate Agrosilvică „Acad. David Davidescu”\n\nDezvoltarea parteneriatului public-privat din zona Buzăului\, în contextul noilor provocări din societatea cunoașterii \n\nOra 12:30 – Dr. ec. Cristina PARTAL\, inspector de specialitate C.J. Buzău\, Thorsten Kirschner\, Fondator Slow Food Buzau\n\nDezvoltarea infrastructurii în sprijinul Geoparcului UNESCO “ȚINUTUL BUZĂULUI” \n\nOra 13:00-14:00 – Masa de prânz\n\nLocație: Hotel Pietroasa \n\nOra 14:00-16:00 – Vizită la Grupul GREEN
URL:https://agir-constanta.ro/event/forumul-agir-regiunea-sud-est-organizat-la-buzau/
LOCATION:Select a State:
END:VEVENT
END:VCALENDAR