BEGIN:VCALENDAR
VERSION:2.0
PRODID:-//ASOCIAȚIA GENERALĂ A INGINERILOR DIN ROMÂNIA - ECPv6.15.12//NONSGML v1.0//EN
CALSCALE:GREGORIAN
METHOD:PUBLISH
X-WR-CALNAME:ASOCIAȚIA GENERALĂ A INGINERILOR DIN ROMÂNIA
X-ORIGINAL-URL:https://agir-constanta.ro
X-WR-CALDESC:Events for ASOCIAȚIA GENERALĂ A INGINERILOR DIN ROMÂNIA
REFRESH-INTERVAL;VALUE=DURATION:PT1H
X-Robots-Tag:noindex
X-PUBLISHED-TTL:PT1H
BEGIN:VTIMEZONE
TZID:Europe/Helsinki
BEGIN:DAYLIGHT
TZOFFSETFROM:+0200
TZOFFSETTO:+0300
TZNAME:EEST
DTSTART:20220327T010000
END:DAYLIGHT
BEGIN:STANDARD
TZOFFSETFROM:+0300
TZOFFSETTO:+0200
TZNAME:EET
DTSTART:20221030T010000
END:STANDARD
BEGIN:DAYLIGHT
TZOFFSETFROM:+0200
TZOFFSETTO:+0300
TZNAME:EEST
DTSTART:20230326T010000
END:DAYLIGHT
BEGIN:STANDARD
TZOFFSETFROM:+0300
TZOFFSETTO:+0200
TZNAME:EET
DTSTART:20231029T010000
END:STANDARD
BEGIN:DAYLIGHT
TZOFFSETFROM:+0200
TZOFFSETTO:+0300
TZNAME:EEST
DTSTART:20240331T010000
END:DAYLIGHT
BEGIN:STANDARD
TZOFFSETFROM:+0300
TZOFFSETTO:+0200
TZNAME:EET
DTSTART:20241027T010000
END:STANDARD
END:VTIMEZONE
BEGIN:VEVENT
DTSTART;TZID=Europe/Helsinki:20231220T190000
DTEND;TZID=Europe/Helsinki:20231220T220000
DTSTAMP:20260423T213537
CREATED:20231107T191331Z
LAST-MODIFIED:20231128T123957Z
UID:5262-1703098800-1703109600@agir-constanta.ro
SUMMARY:Stand-up drama show: umor și muzică cu Sorin Poclitaru și Cosmin Vaman\, club DOORS\, Constanța
DESCRIPTION:Biletele pot fi acțizitionate pe www.iabilet.ro \nStand up – drama este un concept absolut revolutionar in care niste artisti deosebiti\, de care n ati auzit\, incearca sa va faca sa zambiti chiar si dupa ce ati vazut facturile de la gaze\, din luna curenta. Asta in caz ca sunteti tristi. In caz ca veniti veseli\, ok\, e rezolvabil si atunci\, au niste momente artistice de toata jalea. \nCosmin Vaman este un tip grasut care vine cu o chitara\, practic singurul instrument care l a acceptat langa coarda lui. \nSorin Poclitaru este un tip si mai grasut care\, in stilul speakerilor motivationali incearca sa va explice cum sa slabiti\, in caz de nevoie. \nE un proiect absolut nou\, putin prezentat\, nu ptr ca n-ar fi genial dar\, privind la artisti\, iti dai seama ca e greu sa hranesti doua asemenea specimene. Pariul nostru e simplu: daca nici nu radeti si nici nu plangeti\, va dam banii inapoi si ne cerem scuze. E clar ca lucrati la anaf. \nBilete pe www.iabilet.ro
URL:https://agir-constanta.ro/event/stand-up-drama-show-umor-si-muzica-cu-sorin-poclitaru-si-cosmin-vaman/
LOCATION:Doors Club Constanța\, Strada Traian nr 68A\, Constanța\, Constanța\, 900716\, Romania
END:VEVENT
END:VCALENDAR