BEGIN:VCALENDAR
VERSION:2.0
PRODID:-//ASOCIAȚIA GENERALĂ A INGINERILOR DIN ROMÂNIA - ECPv6.15.12//NONSGML v1.0//EN
CALSCALE:GREGORIAN
METHOD:PUBLISH
X-WR-CALNAME:ASOCIAȚIA GENERALĂ A INGINERILOR DIN ROMÂNIA
X-ORIGINAL-URL:https://agir-constanta.ro
X-WR-CALDESC:Events for ASOCIAȚIA GENERALĂ A INGINERILOR DIN ROMÂNIA
REFRESH-INTERVAL;VALUE=DURATION:PT1H
X-Robots-Tag:noindex
X-PUBLISHED-TTL:PT1H
BEGIN:VTIMEZONE
TZID:Europe/Helsinki
BEGIN:DAYLIGHT
TZOFFSETFROM:+0200
TZOFFSETTO:+0300
TZNAME:EEST
DTSTART:20230326T010000
END:DAYLIGHT
BEGIN:STANDARD
TZOFFSETFROM:+0300
TZOFFSETTO:+0200
TZNAME:EET
DTSTART:20231029T010000
END:STANDARD
BEGIN:DAYLIGHT
TZOFFSETFROM:+0200
TZOFFSETTO:+0300
TZNAME:EEST
DTSTART:20240331T010000
END:DAYLIGHT
BEGIN:STANDARD
TZOFFSETFROM:+0300
TZOFFSETTO:+0200
TZNAME:EET
DTSTART:20241027T010000
END:STANDARD
BEGIN:DAYLIGHT
TZOFFSETFROM:+0200
TZOFFSETTO:+0300
TZNAME:EEST
DTSTART:20250330T010000
END:DAYLIGHT
BEGIN:STANDARD
TZOFFSETFROM:+0300
TZOFFSETTO:+0200
TZNAME:EET
DTSTART:20251026T010000
END:STANDARD
END:VTIMEZONE
BEGIN:VEVENT
DTSTART;TZID=Europe/Helsinki:20240123T160000
DTEND;TZID=Europe/Helsinki:20240123T180000
DTSTAMP:20260423T185153
CREATED:20240121T171432Z
LAST-MODIFIED:20240121T171811Z
UID:5415-1706025600-1706032800@agir-constanta.ro
SUMMARY:ing. N. Orac - 90 de ani. Sărbătorim profesionalismul longeviv
DESCRIPTION:Membrii AGIR-Constanța sărbătoresc deosebita carieră și contribuția domnului ing. Nicolae Orac la Construcția de Nave din România. \nDomnul N. Orac împlinește 90 de ani\, pe 24 ianuarie 2024. Este o onoare pentru AGIR Constanța să fi beneficiat toți acești ani de participarea și experiența domnului inginer\, unul dintre mentorii Construcției de Nave din România.
URL:https://agir-constanta.ro/event/ing-n-orac-90-de-ani-sarbatorim-profesionalismul-longeviv/
LOCATION:RUMEN\, RUMEN\, Bloc G1\, Strada Cașin 5\, Constanța 900546\, Constanța\, Romania
END:VEVENT
END:VCALENDAR