BEGIN:VCALENDAR
VERSION:2.0
PRODID:-//ASOCIAȚIA GENERALĂ A INGINERILOR DIN ROMÂNIA - ECPv6.15.12//NONSGML v1.0//EN
CALSCALE:GREGORIAN
METHOD:PUBLISH
X-ORIGINAL-URL:https://agir-constanta.ro
X-WR-CALDESC:Events for ASOCIAȚIA GENERALĂ A INGINERILOR DIN ROMÂNIA
REFRESH-INTERVAL;VALUE=DURATION:PT1H
X-Robots-Tag:noindex
X-PUBLISHED-TTL:PT1H
BEGIN:VTIMEZONE
TZID:Europe/Helsinki
BEGIN:DAYLIGHT
TZOFFSETFROM:+0200
TZOFFSETTO:+0300
TZNAME:EEST
DTSTART:20230326T010000
END:DAYLIGHT
BEGIN:STANDARD
TZOFFSETFROM:+0300
TZOFFSETTO:+0200
TZNAME:EET
DTSTART:20231029T010000
END:STANDARD
BEGIN:DAYLIGHT
TZOFFSETFROM:+0200
TZOFFSETTO:+0300
TZNAME:EEST
DTSTART:20240331T010000
END:DAYLIGHT
BEGIN:STANDARD
TZOFFSETFROM:+0300
TZOFFSETTO:+0200
TZNAME:EET
DTSTART:20241027T010000
END:STANDARD
BEGIN:DAYLIGHT
TZOFFSETFROM:+0200
TZOFFSETTO:+0300
TZNAME:EEST
DTSTART:20250330T010000
END:DAYLIGHT
BEGIN:STANDARD
TZOFFSETFROM:+0300
TZOFFSETTO:+0200
TZNAME:EET
DTSTART:20251026T010000
END:STANDARD
END:VTIMEZONE
BEGIN:VEVENT
DTSTART;TZID=Europe/Helsinki:20240914T090000
DTEND;TZID=Europe/Helsinki:20240914T100000
DTSTAMP:20260421T163428
CREATED:20240913T075803Z
LAST-MODIFIED:20240913T075803Z
UID:5537-1726304400-1726308000@agir-constanta.ro
SUMMARY:14 Septembrie: Ziua Inginerului - in memoriam ing. Anghel Saligny
DESCRIPTION:Depunerea unei coroane de flori la statuia inginerului Anghel Saligny şi deschiderea unei săptămâni de evenimente dedicate Zilei inginerului: 14-21 Septembrie 2024\, alături de Patronatul Societatilor din Constructii\, filiala Dobrogea. \n  \nSăptămâna 14-21 Septembrie\, bogată în evenimente dedicată inginerilor\, oamenilor de știință\, tehnologilor\, maiștrilor\, meșteșugarilor!  AGIR CONSTANȚA onorează profesionalismul în meseriile asociate cu ingineria\, tehnologia și științele aplicate!
URL:https://agir-constanta.ro/event/14-septembrie-ziua-inginerului-in-memoriam-ing-anghel-saligny/
LOCATION:Select a State:
ATTACH;FMTTYPE=image/png:https://agir-constanta.ro/wp-content/uploads/2023/09/Logo-ZiuaIng.png
END:VEVENT
END:VCALENDAR