BEGIN:VCALENDAR
VERSION:2.0
PRODID:-//ASOCIAȚIA GENERALĂ A INGINERILOR DIN ROMÂNIA - ECPv6.15.12//NONSGML v1.0//EN
CALSCALE:GREGORIAN
METHOD:PUBLISH
X-WR-CALNAME:ASOCIAȚIA GENERALĂ A INGINERILOR DIN ROMÂNIA
X-ORIGINAL-URL:https://agir-constanta.ro
X-WR-CALDESC:Events for ASOCIAȚIA GENERALĂ A INGINERILOR DIN ROMÂNIA
REFRESH-INTERVAL;VALUE=DURATION:PT1H
X-Robots-Tag:noindex
X-PUBLISHED-TTL:PT1H
BEGIN:VTIMEZONE
TZID:Europe/Helsinki
BEGIN:DAYLIGHT
TZOFFSETFROM:+0200
TZOFFSETTO:+0300
TZNAME:EEST
DTSTART:20230326T010000
END:DAYLIGHT
BEGIN:STANDARD
TZOFFSETFROM:+0300
TZOFFSETTO:+0200
TZNAME:EET
DTSTART:20231029T010000
END:STANDARD
BEGIN:DAYLIGHT
TZOFFSETFROM:+0200
TZOFFSETTO:+0300
TZNAME:EEST
DTSTART:20240331T010000
END:DAYLIGHT
BEGIN:STANDARD
TZOFFSETFROM:+0300
TZOFFSETTO:+0200
TZNAME:EET
DTSTART:20241027T010000
END:STANDARD
BEGIN:DAYLIGHT
TZOFFSETFROM:+0200
TZOFFSETTO:+0300
TZNAME:EEST
DTSTART:20250330T010000
END:DAYLIGHT
BEGIN:STANDARD
TZOFFSETFROM:+0300
TZOFFSETTO:+0200
TZNAME:EET
DTSTART:20251026T010000
END:STANDARD
END:VTIMEZONE
BEGIN:VEVENT
DTSTART;TZID=Europe/Helsinki:20240921T100000
DTEND;TZID=Europe/Helsinki:20240921T113000
DTSTAMP:20260421T163248
CREATED:20240911T180156Z
LAST-MODIFIED:20240911T180156Z
UID:5526-1726912800-1726918200@agir-constanta.ro
SUMMARY:Workshop aplicativ Green Car\, la Smart Energy Expo 2024
DESCRIPTION:Elevii de liceu și studenții sunt invitați la un atelier aplicativ\, educativ\, în care vor afla câteva principii privind optimizarea consumului de energie electrică la aplicații precum mașina electrică.AGIR Constanța contribuie la Smart Energy Expo cu un workshop excepțional\, destinat publicului tânăr.Vă așteptăm să experimentați ce înseamnă să montezi un circuit simplu de alimentare și automatizare\, câteva principii de optimizare. Va fi extrem de instructiv și …distractiv! in plus\, vei putea lua acasă ce ai muncit la workshop\, AGIR Constanța te încurajează să continui practica!Data: 21 Septembrie 2024\, ora 10:00Pavilionul expozițional\, Constanța
URL:https://agir-constanta.ro/event/workshop-aplicativ-green-car-la-smart-energy-expo-2024/
LOCATION:Pavilionul Expozițional Constanța\, Bd. Mamaia 331 A\, Constanța\, Romania
CATEGORIES:Atelier-SATI,Ateliere, seminarii și conferințe
END:VEVENT
END:VCALENDAR