BEGIN:VCALENDAR
VERSION:2.0
PRODID:-//ASOCIAȚIA GENERALĂ A INGINERILOR DIN ROMÂNIA - ECPv6.15.12//NONSGML v1.0//EN
CALSCALE:GREGORIAN
METHOD:PUBLISH
X-WR-CALNAME:ASOCIAȚIA GENERALĂ A INGINERILOR DIN ROMÂNIA
X-ORIGINAL-URL:https://agir-constanta.ro
X-WR-CALDESC:Events for ASOCIAȚIA GENERALĂ A INGINERILOR DIN ROMÂNIA
REFRESH-INTERVAL;VALUE=DURATION:PT1H
X-Robots-Tag:noindex
X-PUBLISHED-TTL:PT1H
BEGIN:VTIMEZONE
TZID:Europe/Helsinki
BEGIN:DAYLIGHT
TZOFFSETFROM:+0200
TZOFFSETTO:+0300
TZNAME:EEST
DTSTART:20240331T010000
END:DAYLIGHT
BEGIN:STANDARD
TZOFFSETFROM:+0300
TZOFFSETTO:+0200
TZNAME:EET
DTSTART:20241027T010000
END:STANDARD
BEGIN:DAYLIGHT
TZOFFSETFROM:+0200
TZOFFSETTO:+0300
TZNAME:EEST
DTSTART:20250330T010000
END:DAYLIGHT
BEGIN:STANDARD
TZOFFSETFROM:+0300
TZOFFSETTO:+0200
TZNAME:EET
DTSTART:20251026T010000
END:STANDARD
BEGIN:DAYLIGHT
TZOFFSETFROM:+0200
TZOFFSETTO:+0300
TZNAME:EEST
DTSTART:20260329T010000
END:DAYLIGHT
BEGIN:STANDARD
TZOFFSETFROM:+0300
TZOFFSETTO:+0200
TZNAME:EET
DTSTART:20261025T010000
END:STANDARD
END:VTIMEZONE
BEGIN:VEVENT
DTSTART;TZID=Europe/Helsinki:20251113T130000
DTEND;TZID=Europe/Helsinki:20251113T150000
DTSTAMP:20260421T152606
CREATED:20251021T095755Z
LAST-MODIFIED:20251021T095755Z
UID:5815-1763038800-1763046000@agir-constanta.ro
SUMMARY:Instrumente de asistență în cercetare - noile paradigme de succes
DESCRIPTION:Workshop de instruire cu cadre didactice\, specialiști\, specialiști în scientometrie\, cercetători. Eveniment în cadrul Săptămânii Cercetare și Expertiză în Dobrogea. Se acordă certificat de participare. \nProgram: \n\nTiparul de succes al publicării cercetării – ce\, cum\, în ce structură\, cu ce limbaj\, cu ce precizie\, cu ce referință\, după ce standarde de calitate scriem\nInstrumente AI pentru extragerea de date și structurarea conținutului unei lucrări științifice de interes\, publicabile în jurnale de impact.\nPlatforme de cooperare între potențiali autori.\nDirecții de cercetare de interes\nObiective de performanță personale și la nivel de colective de cercetare – ce e realist\, strategii de abordare.\n\n 
URL:https://agir-constanta.ro/event/instrumente-de-asistenta-in-cercetare-noile-paradigme-de-succes/
LOCATION:Universitatea “Ovidius” Constanța\, Bd. Mamaia 124\, Corp Biblioteca\, Aula B\, Bd. Mamaia 124\, Constanta\, Select a State:\, 900527\, Romania
CATEGORIES:Conferințe
END:VEVENT
END:VCALENDAR