BEGIN:VCALENDAR
VERSION:2.0
PRODID:-//ASOCIAȚIA GENERALĂ A INGINERILOR DIN ROMÂNIA - ECPv6.15.12//NONSGML v1.0//EN
CALSCALE:GREGORIAN
METHOD:PUBLISH
X-WR-CALNAME:ASOCIAȚIA GENERALĂ A INGINERILOR DIN ROMÂNIA
X-ORIGINAL-URL:https://agir-constanta.ro
X-WR-CALDESC:Events for ASOCIAȚIA GENERALĂ A INGINERILOR DIN ROMÂNIA
REFRESH-INTERVAL;VALUE=DURATION:PT1H
X-Robots-Tag:noindex
X-PUBLISHED-TTL:PT1H
BEGIN:VTIMEZONE
TZID:Europe/Helsinki
BEGIN:DAYLIGHT
TZOFFSETFROM:+0200
TZOFFSETTO:+0300
TZNAME:EEST
DTSTART:20210328T010000
END:DAYLIGHT
BEGIN:STANDARD
TZOFFSETFROM:+0300
TZOFFSETTO:+0200
TZNAME:EET
DTSTART:20211031T010000
END:STANDARD
BEGIN:DAYLIGHT
TZOFFSETFROM:+0200
TZOFFSETTO:+0300
TZNAME:EEST
DTSTART:20220327T010000
END:DAYLIGHT
BEGIN:STANDARD
TZOFFSETFROM:+0300
TZOFFSETTO:+0200
TZNAME:EET
DTSTART:20221030T010000
END:STANDARD
BEGIN:DAYLIGHT
TZOFFSETFROM:+0200
TZOFFSETTO:+0300
TZNAME:EEST
DTSTART:20230326T010000
END:DAYLIGHT
BEGIN:STANDARD
TZOFFSETFROM:+0300
TZOFFSETTO:+0200
TZNAME:EET
DTSTART:20231029T010000
END:STANDARD
BEGIN:DAYLIGHT
TZOFFSETFROM:+0200
TZOFFSETTO:+0300
TZNAME:EEST
DTSTART:20240331T010000
END:DAYLIGHT
BEGIN:STANDARD
TZOFFSETFROM:+0300
TZOFFSETTO:+0200
TZNAME:EET
DTSTART:20241027T010000
END:STANDARD
END:VTIMEZONE
BEGIN:VEVENT
DTSTART;TZID=Europe/Helsinki:20231026T190000
DTEND;TZID=Europe/Helsinki:20231027T170000
DTSTAMP:20260420T103712
CREATED:20230915T082257Z
LAST-MODIFIED:20231018T162322Z
UID:5205-1698346800-1698426000@agir-constanta.ro
SUMMARY:Forumul AGIR - REGIUNEA SUD EST\, organizat la Buzău
DESCRIPTION:Vă invităm să participați la Forumul AGIR – REGIUNEA SUD EST\, organizat la Buzău\, de sucursala AGIR locală. \nEvenimentul este detaliat pe https://www.forumnationalagir2023.org/ \nÎn program: \nProgramul Forumului Național AGIR 2023: \nZiua 1 – 26 Octombrie 2023 \nLocație: Buzău \n\nOra 11:00 – Concurs organizat de BRIDGE CLUB AGIR Buzău și Federația Română de Specialitate\n\nFestivitate de premiere – Trofeul FORUM AGIR 2023 \nLocație: Sala de conferințe a firmei SC Bencomp SA Buzău \nResponsabil: ing. Stelian CONDRUZ\, membrul sucursalei AGIR Buzau \n\nOra 13:00 – Dialoguri literare – întâlnire între membrii cercului Literar ING și creatori din regiunea de dezvoltare de S-E\nOra 14:00 – Lansarea Cartii „Dialogurile fascinantei geneze”\, coordonator Vasile Anton Moraru\, autori: Ionel Stănuță. Sorin Burlacu\, Cristian Ionescu\nOra 14:30 – Moment de poezie și muzică Nicu Zotta\n\n\nLocație: Sala Centrului IAZUL MORILOR \nPartener: Centrul Cultural și Educațional Alexandru MARGHILOMAN\, Iulia VASILESCU\, responsabil de programe \nResponsabili: prof.univ.dr.ing.Nicolae VASILE\, lect.univ.dr.ing.Ștefan PETRICEANU\, ing. Laurențiu BELIZAN \n\nOra 18:00 – Spectacol de teatru susținut de Cercul Impact ART al AGIR\n\nPiesa: “Doctori de femei”\, comedie de Georges Feydeau \nLocație: Teatrul George CIPRIAN \nExpoziție AMPA (Asociația Meșterilor Populari și Artiștilor) în foaierul teatrului \nPartener: Teatrul George Ciprian\, Gina CHIVULESCU\, managerul teatrului \nPartener: Asociația Meșterilor Populari și Artiștilor – AMPA\, președinte ing. Nicoleta Ungureanu \nResponsabili: lect.univ.dr.ing. Ștefan PETRICEANU\, ing. Daniel NEGUȚ \n  \nZiua 2 – 27 Octombrie 2023 \nLocație: Sala Nicu CONSTANTINESCU a Primăriei Municipiului Buzău \n\nOra 9:00 – Mihai MIHĂIȚĂ\, Președinte AGIR\, Președinte de onoare ASTR\n\nDeschiderea lucrărilor \nOra 9:30 – Luminița MIHAILOV\, Director general al Agenției pentru Dezvoltare Regională Sud-Est \n\nOra 9:45 – ing.Constantin TOMA\, Primarul Municipiului Buzău\, membru fondator al Sucursalei AGIR Buzău\n\nBuzău – Oraș Deschis: centrul național al economiei circulare\, dezvoltarea infrastructurii\, utilizarea apelor uzate în agricultură \n\nOra 10:15 – dr. ing. Costel VINATORU\, membrul Sucursalei AGIR Buzău\n\nBanca de Resurse Genetice Vegetale de la Buzău – oportunități pentru explorarea\, inventarierea\, colectarea\, cercetarea-dezvoltarea și conservarea resurselor fitogenetice \n\nOra 10:30 – prof.dr. ing. Lucica STANCULEANU\, vicepreședinte AGIR Buzău\n\nDrumul de la Învățământul profesional la Consorțiul pentru învățământ DUAL și TEHNIC SUPERIOR la Buzău \n\nOra 10:45 – Pauză\, Coffee breake si lansare de carte\, “KAIZEN ÎN ADMINISTRAȚIA PUBLICĂ\, O REFORMĂ NECESARĂ ÎN ROMÂNIA”\, coordonatori: ing.Constantin Toma\, Julien Bratu\, autori: Simona Săvulescu\, Andrei Răduțu\, Maria Mădălina Roșca\, sub egida Kaizen Institute\, editura Litera\nOra 11:15 – Prof.univ.dr. ing. Anca Nicolau\, președintele Sucursalei AGIR Galați\n\nInfrastructura de cercetare a Universității Dunărea de Jos din Galați\, resursă pentru dezvoltare durabilă: BioAliment-TehnIA – Centrul Integrat de Cercetare\, Expertiză si Transfer Tehnologic în Industria Alimentară\nMoRAS – Centrul Român pentru Modelarea Sistemelor Recirculante de Acvacultură \n\nOra 11.30 – Conf. dr. ing. Nicuşor Baroiu\, vicepreşedintele Sucursalei AGIR Galați\n\nITCM – Centrul de cercetare Inginerie Tehnologică în Construcţia de Maşini\nCE-PP – Centrul de Excelenţă în Prelucrarea Polimerilor\, SUDAV – Centrul de Cercetări Avansate în Domeniul Sudării \n\nOra 11.40 – Prof. univ. dr. chim. habil. Cătălina Iticescu\, directoarea proiectului REXDAN\n\nCentrul de Cercetare REXDAN \n\nOra 11:50 – Prof. univ.dr. ing. Valentina Pomazan\, președintele Sucursalei AGIR Constanța\n\nConexiunea și Creativitatea\, resurse din spatele resurselor \n\nOra 12.10 – Prof.  univ. dr. Gabriel POPESCU\,  Director al Centrului de Studii și Cercetări de Biodiversitate Agrosilvică „Acad. David Davidescu”\n\nDezvoltarea parteneriatului public-privat din zona Buzăului\, în contextul noilor provocări din societatea cunoașterii \n\nOra 12:30 – Dr. ec. Cristina PARTAL\, inspector de specialitate C.J. Buzău\, Thorsten Kirschner\, Fondator Slow Food Buzau\n\nDezvoltarea infrastructurii în sprijinul Geoparcului UNESCO “ȚINUTUL BUZĂULUI” \n\nOra 13:00-14:00 – Masa de prânz\n\nLocație: Hotel Pietroasa \n\nOra 14:00-16:00 – Vizită la Grupul GREEN
URL:https://agir-constanta.ro/event/forumul-agir-regiunea-sud-est-organizat-la-buzau/
LOCATION:Constanta
END:VEVENT
BEGIN:VEVENT
DTSTART;TZID=Europe/Helsinki:20230914T160000
DTEND;TZID=Europe/Helsinki:20230914T180000
DTSTAMP:20260420T103712
CREATED:20230904T110144Z
LAST-MODIFIED:20230904T110144Z
UID:5184-1694707200-1694714400@agir-constanta.ro
SUMMARY:Ziua inginerului
DESCRIPTION:Vă invităm să sărbătorim împreună Ziua Inginerului.  Impreună cu Universitatea “Ovidius” din Constanța\, susținuți de Primăria Municipiului Constanța\, celebrăm realizările și impactul pe care inginerii îl au asupra dezvoltării regionale. \nInvitat de onoare: Primarul Municipiului Constanța\, dr. ing. Vergil Chițac. \nSala Senatului\, corp A\, Campului Universității “Ovidius” Constanța.
URL:https://agir-constanta.ro/event/ziua-inginerului/
LOCATION:Sala Senatului\, corp A\, Campus Univ. Ovidius\, Corp A\, Sala Senatului\, Aleea Universității nr. 1\, 900470\, Constanța\, Constanța\, Constanta\, 900470
END:VEVENT
BEGIN:VEVENT
DTSTART;TZID=Europe/Helsinki:20230912T100000
DTEND;TZID=Europe/Helsinki:20230912T140000
DTSTAMP:20260420T103712
CREATED:20230904T110807Z
LAST-MODIFIED:20230904T110807Z
UID:5188-1694512800-1694527200@agir-constanta.ro
SUMMARY:Vizită la AGIR Buzău
DESCRIPTION:Vă invităm să faceți parte din delegația sucursalei AGIR Constanța\, într-o vizită de pregătire a Forumului regiunii S-E\, un eveniment în serie al AGIR. \nSe vor vizita principalii agenți economici\, semnificativi pentru contribuția lor regională și vor fi discutate aspectele organizatorice ale evenimentului. \n 
URL:https://agir-constanta.ro/event/vizita-la-agir-buzau/
LOCATION:Buzău
END:VEVENT
BEGIN:VEVENT
DTSTART;TZID=Europe/Helsinki:20230504T100000
DTEND;TZID=Europe/Helsinki:20230504T130000
DTSTAMP:20260420T103712
CREATED:20230425T164053Z
LAST-MODIFIED:20230425T204908Z
UID:5098-1683194400-1683205200@agir-constanta.ro
SUMMARY:Conferința finală AGREEN
DESCRIPTION:Univ. Ovidius\, echipa proiectului AGREEN organizează Conferința Finală\, având drept invitati și co-organizatori membrii sucursalei AGIR Constanța. Se vor prezenta rezultatele proiectului internațional și oferte și realizări\, moduri de implementare ale principiilor smart în Agricultură. \nLoc: Corp B\, sala P 23\, Campus Universitar al Univ. Ovidius \nOra: 10:00
URL:https://agir-constanta.ro/event/conferinta-finala-agreen/
LOCATION:Sala Senatului\, corp A\, Campus Univ. Ovidius\, Corp A\, Sala Senatului\, Aleea Universității nr. 1\, 900470\, Constanța\, Constanța\, Constanta\, 900470
CATEGORIES:Conferințe
END:VEVENT
BEGIN:VEVENT
DTSTART;TZID=Europe/Helsinki:20230427T160000
DTEND;TZID=Europe/Helsinki:20230427T180000
DTSTAMP:20260420T103712
CREATED:20230411T193408Z
LAST-MODIFIED:20230425T203812Z
UID:4895-1682611200-1682618400@agir-constanta.ro
SUMMARY:Atelier SATI - Învățăm CFD - analiza numerică a dinamicii fluidelor
DESCRIPTION:Tutor: student Eduard Andrei Tobă\, membru AGIR \nData: Joi\, 27 Aprilie 2023\, ora 16:00 \nLocul: Universitatea “Ovidius” Constanța\, Bd. Mamaia 124\, Sala P18. \n \n  \n  \n  \n  \n  \n  \n  \nComputational fluid dynamics (CFD) sau analiza numerică a dinamicii fluidelor este o ramură a mecanicii fluidelor care utilizează analiza numerică și structurile de date pentru a analiza și rezolva probleme care implică curgerea fluidelor. în laboratorul de inginerie asistată de calculator al Facultății de Inginerie Mecanică\, Industrială și Maritimă veți avea prilejul să modelați solide și să le testați virtual\, ca viitoare forme pentru vehicule\, sau secțiuni și linii de curgere. \n \n\nhttps://agir-constanta.ro/wp-content/uploads/2023/04/2022-05-24-01-00-17-online-video-cutter.com-1.mp4\nSuper interesant și intuitiv! Nu este nevoie să aveți cunoștiințe prealabile de modelare 3D sau mecanica fluidelor. Vă așteptăm cu drag! \nDacă sunteți interesați vă rugăm să vă înscrieți în formularul de mai jos.
URL:https://agir-constanta.ro/event/invatam-cfd/
LOCATION:Universitatea “Ovidius” Constanța\, Bd. Mamaia 124\, Sala P18\, Constanța\, Bd. Mamaia 124\, Constanța\, Constanța\, 900527\, Romania
CATEGORIES:Atelier-SATI
END:VEVENT
BEGIN:VEVENT
DTSTART;TZID=Europe/Helsinki:20230427T140000
DTEND;TZID=Europe/Helsinki:20230427T170000
DTSTAMP:20260420T103712
CREATED:20230425T143126Z
LAST-MODIFIED:20230426T000315Z
UID:5093-1682604000-1682614800@agir-constanta.ro
SUMMARY:Workshop SENIOR - Competențe digitale pentru adulți.
DESCRIPTION:Ne bucurăm să vă anunțăm că seria de workshopuri SENIOR continuă cu tema: Competențe digitale pentru adulți. \nPentru început\, vom identifica activitățile în care avem nevoie de competențe digitale\, iar mai apoi\, vă invităm să realizăm împreună o hartă digitală multiculturală a orașului nostru. \nCu acestă ocazie\, dorim să ne povestiți care sunt lucrurile\, locurile sau obiceiurile cu care ar trebui să ne mândrim noi în orașul Constanța. Dacă dețineți\, poze sau obiecte prin care putem promova multiculturalitatea\, vă rugăm să le aduceți. Ne-ar face mare placere să ni le prezentați (nu le vom opri\, dorim doar să le vedem). \n\nData: Joi\, 27 Aprilie 2023\nAgenda: 13.45 – 14.00 Primirea participanților\n14:00 – 14.40 Competențe digitale pentru adulți\n14:40 – 16.00 Workshop „Hartă digitală multiculturală a orașului nostru”\n16.00 – Networking  & Bufet\nLocație: Hotel Merty\, la intrarea în Satul de vacanță\, în spatele hotelului Oxford\n\nÎn speranța că veți răspunde afirmativ invitației noastre\, așteptăm confirmarea participării dvs. prin completarea online a formularului de de mai jos. \nhttps://forms.gle/5dENd97mvjHW7WYp8
URL:https://agir-constanta.ro/event/workshop-senior-competente-digitale-pentru-adulti/
LOCATION:Hotel Merty\, Satul de Vacanță\, Constanța\, Aleea Ciuleandra\, 900419\, Constanța\, Constanța\, Constanța\, 900419\, Romania
CATEGORIES:ING-Senior
END:VEVENT
BEGIN:VEVENT
DTSTART;TZID=Europe/Helsinki:20230406T140000
DTEND;TZID=Europe/Helsinki:20230406T160000
DTSTAMP:20260420T103712
CREATED:20230412T134215Z
LAST-MODIFIED:20230412T134215Z
UID:4969-1680789600-1680796800@agir-constanta.ro
SUMMARY:Mică istorie energetică a Dobrogei
DESCRIPTION:AGIR Constanța prezintă următorul eveniment în seria Despre Știință și Cultură cu Dezinvoltură. Joi\, 6 Aprilie 2023\, ora 14:00\, sala ACN\, etaj 2\, corpul nou al sediului Universității “Ovidius” din Constanța\, bd. Mamaia 124. Evenimentul va avea formatul de prelegere scurtă\, urmată de dialog cu participanții. Invitat: inginer Teodor Stoenescu. Tema: Mică istorie a energeticii în Dobrogea. Inedit si interesant\, de folos pentru înțelegerea contextului energetic regional. \nEvenimentul este organizat cu sprijinul \n\nComitetului Român de Istoria și Filosofia Științei și Tehnicii – filiala Constanța.
URL:https://agir-constanta.ro/event/mica-istorie-energetica-a-dobrogei/
LOCATION:Universitatea “Ovidius” Constanța\, Bd. Mamaia 124\, Sala P18\, Constanța\, Bd. Mamaia 124\, Constanța\, Constanța\, 900527\, Romania
CATEGORIES:Despre Știință și Cultură
ATTACH;FMTTYPE=image/png:https://agir-constanta.ro/wp-content/uploads/2023/03/Poster-6-aprilie-2023-e1678277346653.png
END:VEVENT
BEGIN:VEVENT
DTSTART;TZID=Europe/Helsinki:20230328T160000
DTEND;TZID=Europe/Helsinki:20230328T180000
DTSTAMP:20260420T103712
CREATED:20230411T193115Z
LAST-MODIFIED:20230412T130055Z
UID:4891-1680019200-1680026400@agir-constanta.ro
SUMMARY:Atelier SATI - “FUN” cu Aerodinamica
DESCRIPTION:Un nou atelier super interesant\, destinat tinerilor interesați de știință si tehnologie\, în căutarea formei aerodinamice optime. Invitați vor fi elevi ai Colegiului Național “Mircea cel Bătrân”\, sub îndrumarea prof. I. Băraru\, membru AGIR. \nTutor: student Eduard Andrei Tobă\, membru AGIR \nData: Marți\, 28 Martie 2023\, ora 16:00 \nLocul: Universitatea “Ovidius” Constanța\, Bd. Mamaia 124\, Sala E 24.
URL:https://agir-constanta.ro/event/atelier-sati-fun-cu-aerodinamica/
LOCATION:Universitatea “Ovidius” Constanța\, Bd. Mamaia 124\, Sala P18\, Constanța\, Bd. Mamaia 124\, Constanța\, Constanța\, 900527\, Romania
CATEGORIES:Atelier-SATI
END:VEVENT
BEGIN:VEVENT
DTSTART;TZID=Europe/Helsinki:20230303T150000
DTEND;TZID=Europe/Helsinki:20230303T170000
DTSTAMP:20260420T103712
CREATED:20230412T133922Z
LAST-MODIFIED:20230412T133959Z
UID:4966-1677855600-1677862800@agir-constanta.ro
SUMMARY:Interacțiunea Om-Tehnologie: provocări și soluții
DESCRIPTION:AGIR Constanța prezintă primul eveniment din anul 2023\, în seria Despre Știință și Cultură cu Dezinvoltură. Vineri\, 3 Martie 2023\, ora 15:00\, sala ACN\, etaj 2\, corpul nou al sediului Universității “Ovidius” din Constanța\, bd. Mamaia 124. Evenimentul va avea formatul de prelegere scurtă\, urmată de dialog cu participanții. Invitată: psihoterapeut Cristina Gemănaru. Tema: Interacțiunea Om-Tehnologie: provocări și soluții. \nEvenimentul este organizat cu sprijinul CRIFST al Academiei Române\, filiala Constanța.
URL:https://agir-constanta.ro/event/interactiunea-om-tehnologie-provocari-si-solutii/
LOCATION:Universitatea “Ovidius” Constanța\, Bd. Mamaia 124\, Sala P18\, Constanța\, Bd. Mamaia 124\, Constanța\, Constanța\, 900527\, Romania
CATEGORIES:Despre Știință și Cultură
END:VEVENT
BEGIN:VEVENT
DTSTART;TZID=Europe/Helsinki:20230303T140000
DTEND;TZID=Europe/Helsinki:20230303T160000
DTSTAMP:20260420T103712
CREATED:20230412T140814Z
LAST-MODIFIED:20230412T140814Z
UID:4985-1677852000-1677859200@agir-constanta.ro
SUMMARY:Martie – Luna Basarabiei la Constanța
DESCRIPTION:AGIR Constanța vă invită la un eveniment de suflet\, dedicat românilor de pretutindeni.\nDin program: \n\nExpoziția “Monumentelor Basarabiei Furate” -32 de panouri tematice\na) Prezentare de Iuliana Gorea Costin\, ambasador plenipotențiar al R Moldova\nb) Recital artistic “ Din Basarabia” \, susținut de compozitorul\, interpretul\, Maestru\nîn Artă\, Viorel Burlacu\,\nc)INVITATI profesori / Istorici din Constanța\nPrezentarea volumului – “ Războiul monumentelor”\, autor avocat Iulian\nRusanovschi.\n3.Lansare de carte – “Prizonierul Iluziei” autor poetul Serea Tănase\n\nAsociația Generală a Inginerilor din România\, sucursala Constanța este co-organizatoare a evenimentului\, prin eforturile d-lui Inginer Eugen Tiron și ale D-nei Prof. dr. ing. Valentina Pomazan.\nLocul evenimentului\, Muzeul de Istorie Națională și Arheologie\nData 1.03.2023-20.03.2023\nVernisaj 03.03.2023\, ora 14:00
URL:https://agir-constanta.ro/event/martie-luna-basarabiei-la-constanta/
LOCATION:Muzeul de Istorie Națională și Arheologie\, Constanța 900178\, Constanta\, 900178\, Romania
CATEGORIES:Ateliere, seminarii și conferințe
END:VEVENT
BEGIN:VEVENT
DTSTART;TZID=Europe/Helsinki:20230221T120000
DTEND;TZID=Europe/Helsinki:20230221T140000
DTSTAMP:20260420T103712
CREATED:20230412T140452Z
LAST-MODIFIED:20230412T140452Z
UID:4982-1676980800-1676988000@agir-constanta.ro
SUMMARY:Workshop SENIOR - “Cele 8 componente ale stării de bine!”
DESCRIPTION:
URL:https://agir-constanta.ro/event/workshop-senior-cele-8-componente-ale-starii-de-bine/
LOCATION:Constanta
CATEGORIES:ING-Senior
END:VEVENT
BEGIN:VEVENT
DTSTART;TZID=Europe/Helsinki:20221215T150000
DTEND;TZID=Europe/Helsinki:20221215T170000
DTSTAMP:20260420T103712
CREATED:20230412T132718Z
LAST-MODIFIED:20230412T132718Z
UID:4956-1671116400-1671123600@agir-constanta.ro
SUMMARY:Atelier SATI - Podul din Spagheti. Construcție și Concurs
DESCRIPTION:
URL:https://agir-constanta.ro/event/atelier-sati-podul-din-spagheti-constructie-si-concurs/
LOCATION:Universitatea “Ovidius” Constanța\, Bd. Mamaia 124\, Sala P18\, Constanța\, Bd. Mamaia 124\, Constanța\, Constanța\, 900527\, Romania
CATEGORIES:Atelier-SATI
END:VEVENT
BEGIN:VEVENT
DTSTART;TZID=Europe/Helsinki:20221210T090000
DTEND;TZID=Europe/Helsinki:20221210T110000
DTSTAMP:20260420T103712
CREATED:20230412T140028Z
LAST-MODIFIED:20230412T140201Z
UID:4980-1670662800-1670670000@agir-constanta.ro
SUMMARY:Membrii AGIR Constanța\, activi la orice vârstă!
DESCRIPTION:
URL:https://agir-constanta.ro/event/membrii-agir-constanta-activi-la-orice-varsta/
LOCATION:Constanta
CATEGORIES:ING-Senior
END:VEVENT
BEGIN:VEVENT
DTSTART;TZID=Europe/Helsinki:20221209T140000
DTEND;TZID=Europe/Helsinki:20221209T160000
DTSTAMP:20260420T103712
CREATED:20230412T135715Z
LAST-MODIFIED:20230412T135715Z
UID:4978-1670594400-1670601600@agir-constanta.ro
SUMMARY:Workshop-ul ”SENIOR – Ce dai\, ce ai\, ce vrei să lași din ceea ce ești”
DESCRIPTION:
URL:https://agir-constanta.ro/event/workshop-ul-senior-ce-dai-ce-ai-ce-vrei-sa-lasi-din-ceea-ce-esti/
LOCATION:Constanta
CATEGORIES:ING-Senior
END:VEVENT
BEGIN:VEVENT
DTSTART;TZID=Europe/Helsinki:20221111T120000
DTEND;TZID=Europe/Helsinki:20221111T140000
DTSTAMP:20260420T103712
CREATED:20230412T133624Z
LAST-MODIFIED:20230412T133624Z
UID:4961-1668168000-1668175200@agir-constanta.ro
SUMMARY:Evoluția istorică a percepției forțelor fundamentale în natură
DESCRIPTION:
URL:https://agir-constanta.ro/event/evolutia-istorica-a-perceptiei-fortelor-fundamentale-in-natura/
LOCATION:Constanta
CATEGORIES:Despre Știință și Cultură
END:VEVENT
BEGIN:VEVENT
DTSTART;TZID=Europe/Helsinki:20221103T160000
DTEND;TZID=Europe/Helsinki:20221103T180000
DTSTAMP:20260420T103712
CREATED:20230412T131702Z
LAST-MODIFIED:20230412T131842Z
UID:4950-1667491200-1667498400@agir-constanta.ro
SUMMARY:Super fun: Stiințele Aplicate\, Tehnologie și Inginerie
DESCRIPTION:Super fun: Stiințele Aplicate\, Tehnologie și Inginerie în practica directă\, în aplicații concrete în atelierul SATI! \nFIMIM\, susținută de AGIR și ANMB își deschide porțile pentru învățarea pe bază de experiență directă\, “hands-on”\, pentru toți tinerii interesați să înțeleagă provocările tehnicii moderne din jurul nostru.
URL:https://agir-constanta.ro/event/super-fun-stiintele-aplicate-tehnologie-si-inginerie/
LOCATION:Universitatea “Ovidius” Constanța\, Bd. Mamaia 124\, Sala P18\, Constanța\, Bd. Mamaia 124\, Constanța\, Constanța\, 900527\, Romania
CATEGORIES:Atelier-SATI
END:VEVENT
BEGIN:VEVENT
DTSTART;TZID=Europe/Helsinki:20221027T120000
DTEND;TZID=Europe/Helsinki:20221027T140000
DTSTAMP:20260420T103712
CREATED:20230412T134843Z
LAST-MODIFIED:20230412T134843Z
UID:4972-1666872000-1666879200@agir-constanta.ro
SUMMARY:Workshop-ul SENIOR – Cum rămânem activi pe măsură ce înaintăm în vârstă
DESCRIPTION:
URL:https://agir-constanta.ro/event/workshop-ul-senior-cum-ramanem-activi-pe-masura-ce-inaintam-in-varsta/
LOCATION:Constanta
CATEGORIES:ING-Senior
END:VEVENT
BEGIN:VEVENT
DTSTART;TZID=Europe/Helsinki:20220525T160000
DTEND;TZID=Europe/Helsinki:20220525T180000
DTSTAMP:20260420T103712
CREATED:20230412T133146Z
LAST-MODIFIED:20230412T133229Z
UID:4958-1653494400-1653501600@agir-constanta.ro
SUMMARY:Workshop - „Educație cu elemente de joc”
DESCRIPTION:
URL:https://agir-constanta.ro/event/workshop-educatie-cu-elemente-de-joc/
LOCATION:Universitatea “Ovidius” Constanța\, Bd. Mamaia 124\, Sala P18\, Constanța\, Bd. Mamaia 124\, Constanța\, Constanța\, 900527\, Romania
CATEGORIES:Despre Știință și Cultură
END:VEVENT
END:VCALENDAR