BEGIN:VCALENDAR
VERSION:2.0
PRODID:-//ASOCIAȚIA GENERALĂ A INGINERILOR DIN ROMÂNIA - ECPv6.15.12//NONSGML v1.0//EN
CALSCALE:GREGORIAN
METHOD:PUBLISH
X-WR-CALNAME:ASOCIAȚIA GENERALĂ A INGINERILOR DIN ROMÂNIA
X-ORIGINAL-URL:https://agir-constanta.ro
X-WR-CALDESC:Events for ASOCIAȚIA GENERALĂ A INGINERILOR DIN ROMÂNIA
REFRESH-INTERVAL;VALUE=DURATION:PT1H
X-Robots-Tag:noindex
X-PUBLISHED-TTL:PT1H
BEGIN:VTIMEZONE
TZID:Europe/Helsinki
BEGIN:DAYLIGHT
TZOFFSETFROM:+0200
TZOFFSETTO:+0300
TZNAME:EEST
DTSTART:20220327T010000
END:DAYLIGHT
BEGIN:STANDARD
TZOFFSETFROM:+0300
TZOFFSETTO:+0200
TZNAME:EET
DTSTART:20221030T010000
END:STANDARD
BEGIN:DAYLIGHT
TZOFFSETFROM:+0200
TZOFFSETTO:+0300
TZNAME:EEST
DTSTART:20230326T010000
END:DAYLIGHT
BEGIN:STANDARD
TZOFFSETFROM:+0300
TZOFFSETTO:+0200
TZNAME:EET
DTSTART:20231029T010000
END:STANDARD
BEGIN:DAYLIGHT
TZOFFSETFROM:+0200
TZOFFSETTO:+0300
TZNAME:EEST
DTSTART:20240331T010000
END:DAYLIGHT
BEGIN:STANDARD
TZOFFSETFROM:+0300
TZOFFSETTO:+0200
TZNAME:EET
DTSTART:20241027T010000
END:STANDARD
END:VTIMEZONE
BEGIN:VEVENT
DTSTART;TZID=Europe/Helsinki:20230912T100000
DTEND;TZID=Europe/Helsinki:20230912T140000
DTSTAMP:20260424T002248
CREATED:20230904T110807Z
LAST-MODIFIED:20230904T110807Z
UID:5188-1694512800-1694527200@agir-constanta.ro
SUMMARY:Vizită la AGIR Buzău
DESCRIPTION:Vă invităm să faceți parte din delegația sucursalei AGIR Constanța\, într-o vizită de pregătire a Forumului regiunii S-E\, un eveniment în serie al AGIR. \nSe vor vizita principalii agenți economici\, semnificativi pentru contribuția lor regională și vor fi discutate aspectele organizatorice ale evenimentului. \n 
URL:https://agir-constanta.ro/event/vizita-la-agir-buzau/
LOCATION:Buzău
END:VEVENT
BEGIN:VEVENT
DTSTART;TZID=Europe/Helsinki:20230914T160000
DTEND;TZID=Europe/Helsinki:20230914T180000
DTSTAMP:20260424T002248
CREATED:20230904T110144Z
LAST-MODIFIED:20230904T110144Z
UID:5184-1694707200-1694714400@agir-constanta.ro
SUMMARY:Ziua inginerului
DESCRIPTION:Vă invităm să sărbătorim împreună Ziua Inginerului.  Impreună cu Universitatea “Ovidius” din Constanța\, susținuți de Primăria Municipiului Constanța\, celebrăm realizările și impactul pe care inginerii îl au asupra dezvoltării regionale. \nInvitat de onoare: Primarul Municipiului Constanța\, dr. ing. Vergil Chițac. \nSala Senatului\, corp A\, Campului Universității “Ovidius” Constanța.
URL:https://agir-constanta.ro/event/ziua-inginerului/
LOCATION:Sala Senatului\, corp A\, Campus Univ. Ovidius\, Corp A\, Sala Senatului\, Aleea Universității nr. 1\, 900470\, Constanța\, Constanța\, Constanta\, 900470
END:VEVENT
END:VCALENDAR