BEGIN:VCALENDAR
VERSION:2.0
PRODID:-//ASOCIAȚIA GENERALĂ A INGINERILOR DIN ROMÂNIA - ECPv6.15.12//NONSGML v1.0//EN
CALSCALE:GREGORIAN
METHOD:PUBLISH
X-ORIGINAL-URL:https://agir-constanta.ro
X-WR-CALDESC:Events for ASOCIAȚIA GENERALĂ A INGINERILOR DIN ROMÂNIA
REFRESH-INTERVAL;VALUE=DURATION:PT1H
X-Robots-Tag:noindex
X-PUBLISHED-TTL:PT1H
BEGIN:VTIMEZONE
TZID:Europe/Helsinki
BEGIN:DAYLIGHT
TZOFFSETFROM:+0200
TZOFFSETTO:+0300
TZNAME:EEST
DTSTART:20220327T010000
END:DAYLIGHT
BEGIN:STANDARD
TZOFFSETFROM:+0300
TZOFFSETTO:+0200
TZNAME:EET
DTSTART:20221030T010000
END:STANDARD
BEGIN:DAYLIGHT
TZOFFSETFROM:+0200
TZOFFSETTO:+0300
TZNAME:EEST
DTSTART:20230326T010000
END:DAYLIGHT
BEGIN:STANDARD
TZOFFSETFROM:+0300
TZOFFSETTO:+0200
TZNAME:EET
DTSTART:20231029T010000
END:STANDARD
BEGIN:DAYLIGHT
TZOFFSETFROM:+0200
TZOFFSETTO:+0300
TZNAME:EEST
DTSTART:20240331T010000
END:DAYLIGHT
BEGIN:STANDARD
TZOFFSETFROM:+0300
TZOFFSETTO:+0200
TZNAME:EET
DTSTART:20241027T010000
END:STANDARD
END:VTIMEZONE
BEGIN:VEVENT
DTSTART;VALUE=DATE:20231109
DTEND;VALUE=DATE:20231110
DTSTAMP:20260423T213744
CREATED:20231107T190609Z
LAST-MODIFIED:20231107T190609Z
UID:5260-1699488000-1699574399@agir-constanta.ro
SUMMARY:Evoluția instrumentelor de observație astronomică - activitate interactivă
DESCRIPTION:Un eveniment deosebit\,  organizat de AGIR Constanța\, dedicat iubitorilor de astronomie\, astrofizică și tuturor acelora interesați de istoria cunoașterii. \nDl. Comandor (r) Vasile Chirilă aduce în Constanța\, expoziția instrumentelor de observație astronomică. În cadrul prezentării susținute la Universitatea “Ovidius” Constanța\, vor fi la dispoziția publicului  instrumente minunate\, marcând istoria observației astronomice. \nPentru pasionați\, pe 9 Noiembrie\, Dl. Chirilă va susține și o prelegere\, cu explicații si demonstrații\, privind utilizarea acestor instrumente. Apoi\, o surpriză: nemijlocit\, veți putea lua parte la o ședință de observație a Soarelui. \nProgramul zilei de 9 Noiembrie 2023 \n10.00 -12:00 – Universitatea Ovidius Constanța\, Bd. Mamaia 124\, Corp B\, Aula\, etaj 1\nPrelegere cu expoziție “Evoluția instrumentelor de navigație astronomica.\nDe la gnomon și astrolab la sextant”. – prezintă Dl. C-dor (r) Vasile Chirilă.\n12:00-13:00\nDeplasare la Planetariul Constanța\n13:00- 16.00\nPrezentarea instrumentelor pentru observații astronomice.\nPrezentarea bolții cerești la Planetariu\, în două serii. (locuri limitate în sală\, maxim 35 persoane). Prezintă D-na muzeograf C. Diamandi.\nSesiune de observații astronomice la petele solare cu Dl. Comandor (r) Vasile Chirilă (dacă cerul permite) \nIntrarea liberă.
URL:https://agir-constanta.ro/event/evolutia-instrumentelor-de-observatie-astronomica-activitate-interactiva/
LOCATION:Universitatea “Ovidius” Constanța\, Bd. Mamaia 124\, Sala P18\, Constanța\, Bd. Mamaia 124\, Constanța\, Constanța\, 900527\, Romania
END:VEVENT
END:VCALENDAR