BEGIN:VCALENDAR
VERSION:2.0
PRODID:-//ASOCIAȚIA GENERALĂ A INGINERILOR DIN ROMÂNIA - ECPv6.15.12//NONSGML v1.0//EN
CALSCALE:GREGORIAN
METHOD:PUBLISH
X-ORIGINAL-URL:https://agir-constanta.ro
X-WR-CALDESC:Events for ASOCIAȚIA GENERALĂ A INGINERILOR DIN ROMÂNIA
REFRESH-INTERVAL;VALUE=DURATION:PT1H
X-Robots-Tag:noindex
X-PUBLISHED-TTL:PT1H
BEGIN:VTIMEZONE
TZID:Europe/Helsinki
BEGIN:DAYLIGHT
TZOFFSETFROM:+0200
TZOFFSETTO:+0300
TZNAME:EEST
DTSTART:20230326T010000
END:DAYLIGHT
BEGIN:STANDARD
TZOFFSETFROM:+0300
TZOFFSETTO:+0200
TZNAME:EET
DTSTART:20231029T010000
END:STANDARD
BEGIN:DAYLIGHT
TZOFFSETFROM:+0200
TZOFFSETTO:+0300
TZNAME:EEST
DTSTART:20240331T010000
END:DAYLIGHT
BEGIN:STANDARD
TZOFFSETFROM:+0300
TZOFFSETTO:+0200
TZNAME:EET
DTSTART:20241027T010000
END:STANDARD
BEGIN:DAYLIGHT
TZOFFSETFROM:+0200
TZOFFSETTO:+0300
TZNAME:EEST
DTSTART:20250330T010000
END:DAYLIGHT
BEGIN:STANDARD
TZOFFSETFROM:+0300
TZOFFSETTO:+0200
TZNAME:EET
DTSTART:20251026T010000
END:STANDARD
END:VTIMEZONE
BEGIN:VEVENT
DTSTART;TZID=Europe/Helsinki:20240212T190000
DTEND;TZID=Europe/Helsinki:20240212T210000
DTSTAMP:20260423T161954
CREATED:20240209T075940Z
LAST-MODIFIED:20240209T081733Z
UID:5431-1707764400-1707771600@agir-constanta.ro
SUMMARY:12 Februarie - Sărbătorim ziua internațională a femeilor în știință
DESCRIPTION:Sărbătorim activitatea fetelor și femeilor care sunt implicate în știință și tehnologie. Prezentăm realizările\, provocările și soluțiile pentru situațiile specifice în care se regăsesc fetele și femeile care lucrează în educație\, producție\, cercetare. \nVă așteptăm cu drag!
URL:https://agir-constanta.ro/event/ziua-internationala-a-femeilor-in-stiinta/
LOCATION:RUMEN\, RUMEN\, Bloc G1\, Strada Cașin 5\, Constanța 900546\, Constanța\, Romania
CATEGORIES:Ateliere, seminarii și conferințe,Despre Știință și Cultură
END:VEVENT
BEGIN:VEVENT
DTSTART;TZID=Europe/Helsinki:20240215T103000
DTEND;TZID=Europe/Helsinki:20240215T140000
DTSTAMP:20260423T161954
CREATED:20240208T125725Z
LAST-MODIFIED:20240209T074146Z
UID:5421-1707993000-1708005600@agir-constanta.ro
SUMMARY:Atelier SATI: Metode de măsurare GPS cu practică pe malul Mării Negre
DESCRIPTION:Elevii de liceu și studenții sunt invitați la o sesiune de prezentare a metodelor de masurare GPS pentru cartare geomorfologica cu ajutorul softurilor de cartografie digitala tip GIS\, urmate de o sesiune practică de măsurători\, pe malul mării. \nGazdă și co-organizator: Institutul Național de Cercetare-Dezvoltare Marină “Grigore Antipa” (INCDM) \nÎnscrieri pe mail la: comunicare@agir-constanta.ro \nTermen limită pentru înscrieri: 14 Februarie 2024\, ora 13:00
URL:https://agir-constanta.ro/event/5421/
LOCATION:INCDM\, Bulevardul Mamaia nr. 300\, Constanța\, Constanta\, 900581\, Romania
CATEGORIES:Atelier-SATI
END:VEVENT
BEGIN:VEVENT
DTSTART;TZID=Europe/Helsinki:20240220T190000
DTEND;TZID=Europe/Helsinki:20240220T193000
DTSTAMP:20260423T161954
CREATED:20240212T105406Z
LAST-MODIFIED:20240212T105406Z
UID:5446-1708455600-1708457400@agir-constanta.ro
SUMMARY:Concurs ONLINE: selecția echipelor ce vor participa la Robotics Championhsip Oradea\, 9-11 Mai 2024
DESCRIPTION:AGIR selecționează echipele pentru care oferă mentorat în domeniul robotică\, pentru 6 echipe de tineri.\nSe organizează concurs pentru selecția a 18 elevi și studenți\, în vederea participării la concursul Robotics Championhsip Oradea\, 9-11 Mai 2024. https://www.robotics-championship.com/ro/# \nEchipele vor fi constituite din câte 3 membri. \nTermen limită pentru înscriere: 19 Februarie\, ora 14:00.\nConcursul de selecție va avea loc pe data de 20 Februarie\, ora 19:00\, în format online\, pe o platformă de testare care va fi indicată celor înscriși\, pe emailul de contact.\nTestarea presupune accesul la un dispozitiv smart\, cu legătură la internet și constă dintr-o grilă de întrebări a căror completare durează maxim 20 minute. \nLinkul de înscriere la concursul de selecție este: \nhttps://forms.office.com/e/AQ9YqKK2Ke
URL:https://agir-constanta.ro/event/concurs-online-selectia-echipelor-ce-vor-participa-la-robotics-championhsip-oradea-9-11-mai-2024/
LOCATION:ONLINE
CATEGORIES:Atelier-SATI
END:VEVENT
END:VCALENDAR