BEGIN:VCALENDAR
VERSION:2.0
PRODID:-//ASOCIAȚIA GENERALĂ A INGINERILOR DIN ROMÂNIA - ECPv6.15.12//NONSGML v1.0//EN
CALSCALE:GREGORIAN
METHOD:PUBLISH
X-ORIGINAL-URL:https://agir-constanta.ro
X-WR-CALDESC:Events for ASOCIAȚIA GENERALĂ A INGINERILOR DIN ROMÂNIA
REFRESH-INTERVAL;VALUE=DURATION:PT1H
X-Robots-Tag:noindex
X-PUBLISHED-TTL:PT1H
BEGIN:VTIMEZONE
TZID:Europe/Helsinki
BEGIN:DAYLIGHT
TZOFFSETFROM:+0200
TZOFFSETTO:+0300
TZNAME:EEST
DTSTART:20230326T010000
END:DAYLIGHT
BEGIN:STANDARD
TZOFFSETFROM:+0300
TZOFFSETTO:+0200
TZNAME:EET
DTSTART:20231029T010000
END:STANDARD
BEGIN:DAYLIGHT
TZOFFSETFROM:+0200
TZOFFSETTO:+0300
TZNAME:EEST
DTSTART:20240331T010000
END:DAYLIGHT
BEGIN:STANDARD
TZOFFSETFROM:+0300
TZOFFSETTO:+0200
TZNAME:EET
DTSTART:20241027T010000
END:STANDARD
BEGIN:DAYLIGHT
TZOFFSETFROM:+0200
TZOFFSETTO:+0300
TZNAME:EEST
DTSTART:20250330T010000
END:DAYLIGHT
BEGIN:STANDARD
TZOFFSETFROM:+0300
TZOFFSETTO:+0200
TZNAME:EET
DTSTART:20251026T010000
END:STANDARD
END:VTIMEZONE
BEGIN:VEVENT
DTSTART;TZID=Europe/Helsinki:20240306T100000
DTEND;TZID=Europe/Helsinki:20240630T120000
DTSTAMP:20260423T145602
CREATED:20240306T165320Z
LAST-MODIFIED:20240306T165321Z
UID:5463-1709719200-1719748800@agir-constanta.ro
SUMMARY:Februarie -Iunie 2024   O nouă serie de Ateliere SATI - seria robotică
DESCRIPTION:Seria se desfășoară continuu\, cu 2 întâlniri săptămânale. Participă elevii Colegiului Național Mircea cel Bătrân și ai Facultății de Inginerie Mecanică\, Industrială și Maritimă\, Universitatea “Ovidius” din Constanța. \n 
URL:https://agir-constanta.ro/event/februarie-iunie-2024-o-noua-serie-de-ateliere-sati-seria-robotica/
LOCATION:Universitatea “Ovidius” Constanța\, Bd. Mamaia 124\, Sala P18\, Constanța\, Bd. Mamaia 124\, Constanța\, Constanța\, 900527\, Romania
CATEGORIES:Atelier-SATI
END:VEVENT
BEGIN:VEVENT
DTSTART;VALUE=DATE:20240321
DTEND;VALUE=DATE:20240322
DTSTAMP:20260423T145602
CREATED:20240118T194334Z
LAST-MODIFIED:20240118T194334Z
UID:5384-1710979200-1711065599@agir-constanta.ro
SUMMARY:Adunarea Generală Națională AGIR - București
DESCRIPTION:
URL:https://agir-constanta.ro/event/adunarea-generala-nationala-agir-bucuresti/
LOCATION:AGIR București\, Calea Victoriei nr. 118\, etaj 1\, sector 1\, Bucuresti\, București\, Romania
END:VEVENT
BEGIN:VEVENT
DTSTART;TZID=Europe/Helsinki:20240327T170000
DTEND;TZID=Europe/Helsinki:20240327T210000
DTSTAMP:20260423T145602
CREATED:20240320T125829Z
LAST-MODIFIED:20240320T125829Z
UID:5471-1711558800-1711573200@agir-constanta.ro
SUMMARY:27 Martie 2024 Evenimentul Editorial BASARABIA - DOBROGEA\, POD CULTURAL.
DESCRIPTION:Martie – luna Basarabiei la Constanța și AGIR Constanța este din nou co-organizatorul evenimentului\, carev- a beneficia de prezența Dnei. ambasador IULIANA GOREA COSTIN și prof. compozitor VIOREL BURLACU. \nPe 27 martie\, la Centrul Cultural “Jean Constantin”\, vor fi lansate cărți de suflet pentru istoria socială a românilor\, și se vor purta discuții pe temele ridicate de autori. \nDin partea AGIR\, organizatori au fost dl. ing. Eugen Tiron și d-na dr. ing. Valentina Pomazan.
URL:https://agir-constanta.ro/event/27-martie-2024-evenimentul-editorial-basarabia-dobrogea-pod-cultural/
LOCATION:Centrul Cultural “Jean Constantin”\, B-dul Ferdinand Nr 56\, Constanta\, Constanta\, Romania
CATEGORIES:Ateliere, seminarii și conferințe,Despre Știință și Cultură
END:VEVENT
BEGIN:VEVENT
DTSTART;TZID=Europe/Helsinki:20240328T130000
DTEND;TZID=Europe/Helsinki:20240328T170000
DTSTAMP:20260423T145602
CREATED:20240320T130900Z
LAST-MODIFIED:20240320T130900Z
UID:5479-1711630800-1711645200@agir-constanta.ro
SUMMARY:28 Martie  Simpozionul Internațional ”Oportunități împărtășite – viitor comun
DESCRIPTION:28 Martie 2024: Membrii AGIR sunt invitați la Simpozionul Internațional ”Oportunități împărtășite – viitor comun. Belt and Road – cooperare de înaltă calitate” \, organizat de Ambasada Republicii Populare Chineze și Asociația Română de Prietenie cu China\, joi\, 28 Martie 2024\, începând cu ora 13.00\, în Aula Magna a Universității „Andrei Șaguna”.\nLucrările sunt onorate de participarea Excelenței Sale Han Chunlin\, Ambasadorul Republicii Populare Chineze și a altor valoroase personalități care vor susține alocuțiuni asupra importantului subiect.\nCu acest prilej\, va fi vernisată o expoziție de fotografii dedicată evenimentului.
URL:https://agir-constanta.ro/event/28-martie-simpozionul-international-oportunitati-impartasite-viitor-comun/
LOCATION:Unniversitatea “Andrei Șaguna”
CATEGORIES:Ateliere, seminarii și conferințe,Conferințe,Despre Știință și Cultură
END:VEVENT
END:VCALENDAR